BEGIN:VCALENDAR
VERSION:2.0
PRODID:icalendar-ruby
CALSCALE:GREGORIAN
METHOD:PUBLISH
BEGIN:VEVENT
DTSTAMP:20260421T191830Z
UID:462-5467020@faithoakville.ca
DTSTART:20260913T230000Z
DTEND:20260914T003000Z
CLASS:PUBLIC
CREATED:20260421T140320
DESCRIPTION:C&amp\;C - Sundays at 7 pm @ Faith.\nQuestions? robert@faithoak
 ville.ca\n*NOTE - no C&amp\;C on Sunday January 25 because of Praise\, Pra
 yer &amp\; Potluck
LAST-MODIFIED:20260421T140320
LOCATION:Faith
SUMMARY:Faith C&C
URL;VALUE=URI:https://www.faithoakville.ca/events/faith-c-c--462/2026-09-13
ATTACH;FILENAME=C&C College & Career @ Faith.png;FMTTYPE=image/png:https://
 dq5pwpg1q8ru0.cloudfront.net/2025/08/31/15/40/44/040615e1-69af-4599-a6f9-c
 c545c3dd04b/C&C%20College%20&%20Career%20@%20Faith.png
ATTACH;FILENAME=IMG_1835.jpeg;FMTTYPE=image/jpeg:https://dq5pwpg1q8ru0.clou
 dfront.net/2025/08/31/15/41/18/0a7097e7-66be-4959-9a02-2541331a368f/IMG_18
 35.jpeg
ATTACH;FILENAME=IMG_1826.jpeg;FMTTYPE=image/jpeg:https://dq5pwpg1q8ru0.clou
 dfront.net/2025/08/31/15/43/21/2ad7c560-460a-435c-bbf4-8a8ec5720d0c/IMG_18
 26.jpeg
END:VEVENT
END:VCALENDAR
